BEGIN:VCALENDAR
PRODID:-//eluceo/ical//2.0/EN
VERSION:2.0
CALSCALE:GREGORIAN
BEGIN:VEVENT
UID:cb17e46e9519b68736bb1c755586c7b3
DTSTAMP:20260423T014123Z
SUMMARY:Informal Networks 2021 Event
DESCRIPTION:An afternoon to watch some of the presentations at Networks 202
 1 ( https://networks2021.net/ ) the combined Sunbelt and NetSci conference
  which is online this year. Note the conference time is EST which is curre
 ntly 5 hours behind London time. We will have to decide which talk to watc
 h when there are parallel sessions. Feel free to join in as needed\, and c
 ome to just for the social events if you like.  \nMasks will be needed\,
  and numbers in the seminar room are limited by college regulations and we
  will have to turn people away if the seminar room is full. Perhaps email 
 or use Signal to talk to us before you come along to the seminar room.\nI 
 am expecting those with a Physics key and Blackett Building access will be
  able to reach the room independently\, but we will see on the day. I sugg
 est you contact Tim or Bingsheng by email if needed (see end).\nConference
  Agenda\nhttps://networks2021.net/program\nhttps://drive.google.com/file/d
 /1gNxVAMD56kfvzehowjw6b0irKUOlM51o/view\nTimetable\nLunch – 12.00 inform
 al\, somewhere around Queens Lawn\nConference Talks – 630 Blackett Lab.\
 n12.45-14.15 Parallel sessions\n14.15-15.15 Plenary session. Speakers: Mar
 k Newman\, Elizabeth Bruch “A research presentation and discussion of in
 terdisciplinary collaboration” (which is a pretty meaningless title)\n15
 .30.16.30 Lightning talks\n16.45- 19.15 Parallel Sessions\nDiscussion – 
 18.00 onwards\, informal open air college discussion facility but I am not
  sure what is open\, so either (a) outside student bar in Beit Quad or (b)
  outside Eastside bar (east side of Prince’s Gardens). Weather looks lik
 e traditional Wimbledon weather so bring an umbrella.\nContact Any issues 
 contact us on\nT.Evans@imperial.ac.uk      or   bingsheng.chen14@im
 perial.ac.uk\nor use the  Networks21@IC  Signal group (Signal = Whatapp 
 without Facebook\, desktop and mobile apps available) 
URL:https://www.imperial.ac.uk/events/137379/informal-networks-2021-event/
DTSTART;TZID=Europe/London:20210706T120000
DTEND;TZID=Europe/London:20210706T190000
LOCATION:603 Blackett Lab\, Blackett Building\, South Kensington Campus\, I
 mperial College London\, London\, SW7 2AZ\, United Kingdom
END:VEVENT
BEGIN:VTIMEZONE
TZID:Europe/London
BEGIN:DAYLIGHT
DTSTART:20210706T120000
TZNAME:BST
TZOFFSETTO:+0100
TZOFFSETFROM:+0100
END:DAYLIGHT
END:VTIMEZONE
END:VCALENDAR
