BEGIN:VCALENDAR
PRODID:-//eluceo/ical//2.0/EN
VERSION:2.0
CALSCALE:GREGORIAN
BEGIN:VEVENT
UID:038c6d70a348540d129f8f010ab0a2cd
DTSTAMP:20260423T172336Z
SUMMARY:Part-time MBA programmes: In conversation with students and alumni
DESCRIPTION:If you have applied or are considering an application to the W
 eekend MBA or Executive MBA programme\, this will be a great opportunity t
 o hear all about the experiences from our panel\, including why they chose
  that particular programme\, top tips for the application process and how 
 an MBA has impacted their career. Plus you can ask any questions you may 
 have.\nYou can find out information about our part-time MBA programmes in 
 advance using the links below.\n\nWeekend MBA\nExecutive MBA\n\nThis event
  will take place via Zoom meeting and at UK local time. Please register v
 ia our registration form and instructions will be sent to you closer to 
 the date. We look forward to seeing you online. 
URL:https://www.imperial.ac.uk/events/138592/part-time-mba-programmes-in-co
 nversation-with-students-and-alumni/
DTSTART;TZID=Europe/London:20210907T183000
DTEND;TZID=Europe/London:20210907T193000
LOCATION:United Kingdom
END:VEVENT
BEGIN:VTIMEZONE
TZID:Europe/London
BEGIN:DAYLIGHT
DTSTART:20210907T183000
TZNAME:BST
TZOFFSETTO:+0100
TZOFFSETFROM:+0100
END:DAYLIGHT
END:VTIMEZONE
END:VCALENDAR
