BEGIN:VCALENDAR
PRODID:-//eluceo/ical//2.0/EN
VERSION:2.0
CALSCALE:GREGORIAN
BEGIN:VEVENT
UID:9a49a1683aff731ea104b35146aa8908
DTSTAMP:20260421T193930Z
SUMMARY:Mastering the MSc application process
DESCRIPTION:During this webinar\, you will be provided guidance from both 
 the Recruitment and Admissions teams\, providing tips and hints on how to
  submit a successful application\, what to include in supporting documents
 \, and about completing the GMAT or GRE. \nAgenda topics: \n\nThe applic
 ation process across our portfolio of MSc programmes\nTips and hints to co
 mplete a standout application and video interview \nOnline resources avai
 lable for your application\nGMAT and GRE process\nKey dates and deadlines\
 nA live Q&A with the Recruitment and Admissions teams\n
URL:https://www.imperial.ac.uk/events/146373/mastering-the-msc-application-
 process-2/
DTSTART;TZID=Europe/London:20220413T120000
DTEND;TZID=Europe/London:20220413T130000
LOCATION:United Kingdom
END:VEVENT
BEGIN:VTIMEZONE
TZID:Europe/London
BEGIN:DAYLIGHT
DTSTART:20220413T120000
TZNAME:BST
TZOFFSETTO:+0100
TZOFFSETFROM:+0100
END:DAYLIGHT
END:VTIMEZONE
END:VCALENDAR
