BEGIN:VCALENDAR
PRODID:-//eluceo/ical//2.0/EN
VERSION:2.0
CALSCALE:GREGORIAN
BEGIN:VEVENT
UID:f4f132ee96b6d428c7bacb7737d49b2d
DTSTAMP:20260423T202500Z
SUMMARY:Communion Service and Prayers of Thanksgiving for the life of Her M
 ajesty Queen Elizabeth II.
DESCRIPTION:A simple reflective and meditative service of Holy Communion wi
 th Prayers of Thanksgiving for the life of Her Majesty Queen Elizabeth II.
URL:https://www.imperial.ac.uk/events/147631/wednesday-weekly-lunchtime-com
 munion/
DTSTART;TZID=Europe/London:20220914T131000
DTEND;TZID=Europe/London:20220914T134000
LOCATION:Holy Trinity Church next to Beit\, Beit Quadrangle\, South Kensing
 ton Campus\, Imperial College London\, London\, SW7 2AZ\, United Kingdom
END:VEVENT
BEGIN:VTIMEZONE
TZID:Europe/London
BEGIN:DAYLIGHT
DTSTART:20220914T131000
TZNAME:BST
TZOFFSETTO:+0100
TZOFFSETFROM:+0100
END:DAYLIGHT
END:VTIMEZONE
END:VCALENDAR
