BEGIN:VCALENDAR
PRODID:-//eluceo/ical//2.0/EN
VERSION:2.0
CALSCALE:GREGORIAN
BEGIN:VEVENT
UID:c7545e366430addee9700f65bdaeaf8e
DTSTAMP:20260423T014123Z
SUMMARY:UCAS Fair | Undergradute Study | Highlands
DESCRIPTION:Imperial College London’s Student Recruitment team will be at
 tending this UCAS fair. Visit our stand to find out more about our courses
 \, campus\, and university life.\nIf you’re a teacher or adviser\, sign 
 up here to make your school’s group booking.
URL:https://www.imperial.ac.uk/events/151460/ucas-fair-undergradute-study-h
 ighlands/
DTSTART;TZID=Europe/London:20220921T093000
DTEND;TZID=Europe/London:20220921T150000
LOCATION:UHI Inverness\, 1 Inverness Campus\, Inverness\, IV2 5NA\, United 
 Kingdom
END:VEVENT
BEGIN:VTIMEZONE
TZID:Europe/London
BEGIN:DAYLIGHT
DTSTART:20220921T093000
TZNAME:BST
TZOFFSETTO:+0100
TZOFFSETFROM:+0100
END:DAYLIGHT
END:VTIMEZONE
END:VCALENDAR
