BEGIN:VCALENDAR
PRODID:-//eluceo/ical//2.0/EN
VERSION:2.0
CALSCALE:GREGORIAN
BEGIN:VEVENT
UID:24de4ac4a8b5f4473064fa3ebed0ab6a
DTSTAMP:20260426T003410Z
SUMMARY:GIG-A-BITES lunchtime concert
DESCRIPTION:
URL:https://www.imperial.ac.uk/events/152127/gig-a-bites-lunchtime-concert/
DTSTART;TZID=Europe/London:20220921T123000
DTEND;TZID=Europe/London:20220921T133000
LOCATION:Benugo café - ground floor\, Translation and Innovation Hub (I-HU
 B)\, White City Campus\, Imperial College London\, London\, W12 0BZ\, Unit
 ed Kingdom
END:VEVENT
BEGIN:VTIMEZONE
TZID:Europe/London
BEGIN:DAYLIGHT
DTSTART:20220921T123000
TZNAME:BST
TZOFFSETTO:+0100
TZOFFSETFROM:+0100
END:DAYLIGHT
END:VTIMEZONE
END:VCALENDAR
