BEGIN:VCALENDAR
PRODID:-//eluceo/ical//2.0/EN
VERSION:2.0
CALSCALE:GREGORIAN
BEGIN:VEVENT
UID:f9338810c3ee2f3344cb2b751ef8d54d
DTSTAMP:20260423T182657Z
SUMMARY:BBSRC Executive Chair Open Presentation
DESCRIPTION:Hear from the Biotechnology and Biological Sciences Research Co
 uncil’s Executive Chair\, Professor Melanie Welham\, about BBSRC’s str
 ategy and forward look. This will be followed by a Q&A session.\nWe would 
 welcome questions sent in advance as well as raised on the day – please 
 send by 9 November to researchoffice.fundingstrategy@imperial.ac.uk
URL:https://www.imperial.ac.uk/events/155410/bbsrc-executive-chair-open-pre
 sentation/
DTSTART;TZID=Europe/London:20221114T110000
DTEND;TZID=Europe/London:20221114T120000
LOCATION:SALC 10\, Sherfield Building\, South Kensington Campus\, Imperial 
 College London\, London\, SW7 2AZ\, United Kingdom
END:VEVENT
BEGIN:VTIMEZONE
TZID:Europe/London
BEGIN:STANDARD
DTSTART:20221114T110000
TZNAME:GMT
TZOFFSETTO:+0000
TZOFFSETFROM:+0000
END:STANDARD
END:VTIMEZONE
END:VCALENDAR
