BEGIN:VCALENDAR
PRODID:-//eluceo/ical//2.0/EN
VERSION:2.0
CALSCALE:GREGORIAN
BEGIN:VEVENT
UID:4ee99b2a1198e0ed2c27aa2eae325302
DTSTAMP:20260421T055012Z
SUMMARY:Celcat Live training session – classroom based
DESCRIPTION:IMPORTANT: Before signing for the class please ensure you have
  completed the Write access permissions form and it has been authorised
  by your departmental timetabling contact. Once the form is submitted an a
 utomatic email will be send to your departmental approver for approval/rej
 ection. Please only register on the course once you know you have been g
 ranted access to Celcat.\nPLEASE BRING YOUR OWN LATOP \nThe class content
  covers\n\nAdding new events\nEditing existing events\nSegmenting and Spli
 tting events\nDeleting events\nFiltering resource data using the filtering
  functionality\nFinding events via the Event ID\nUnderstanding the Clash C
 hecker functionality\nDuplicating and/or moving events\nUsage charts – u
 sing them to see your departments rooms and their availability in specifie
 d weeks\nUsing the room adviser functionality to find free space rooms in 
 other departments\nEmailing room requests via Celcat or completing departm
 ental room request forms\nPublication Windows\n\nIMPORTANT BOOKING INFORMA
 TION\nTo book training please go to ICIS and click on ‘My Training’. 
  To enrol on the course\, please enter ‘Celcat’ in the Search box (sel
 ect all) and click the ‘Go’ button.  If you have any problems registe
 ring please email the Central Timetabling Support Office at timetabling@i
 mperial.ac.uk
URL:https://www.imperial.ac.uk/events/163460/celcat-live-training-session-c
 lassroom-based-13/
DTSTART;TZID=Europe/London:20230710T100000
DTEND;TZID=Europe/London:20230710T124500
LOCATION:ICT Training Room - 204 - Central Library Building\, Abdus Salam L
 ibrary\, South Kensington Campus\, Imperial College London\, London\, SW7 
 2AZ\, United Kingdom
END:VEVENT
BEGIN:VTIMEZONE
TZID:Europe/London
BEGIN:DAYLIGHT
DTSTART:20230710T100000
TZNAME:BST
TZOFFSETTO:+0100
TZOFFSETFROM:+0100
END:DAYLIGHT
END:VTIMEZONE
END:VCALENDAR
