BEGIN:VCALENDAR
PRODID:-//eluceo/ical//2.0/EN
VERSION:2.0
CALSCALE:GREGORIAN
BEGIN:VEVENT
UID:d6f3a9f7e96d68d9d3035ded42decc7f
DTSTAMP:20260420T220215Z
SUMMARY:Mastering the application & scholarship process
DESCRIPTION:Are you considering an application for an MBA or Masters’ pr
 ogramme? Discover the admissions and scholarship process at our online ses
 sion.\nDuring this webinar you will be provided guidance from the Recruit
 ment and Admissions team\, including tips and hints on how to submit a s
 uccessful application\, what to include in supporting documents\, details 
 about completing the GMAT or GRE and further information about the schola
 rships available at Imperial College Business School.\nAgenda topics: \n
 \nThe application process across our portfolio of MBA and Masters’ progr
 ammes\nTips and hints to complete a standout application\nGMAT and GRE pro
 cess\nAvailable scholarships\nKey dates and deadlines and resources avail
 able for your application\nA live Q&A with the Recruitment and Admissions 
 teams\n\nThis event will take place via Zoom and at UK local time. 
URL:https://www.imperial.ac.uk/events/170680/mastering-the-application-scho
 larship-process/
DTSTART;TZID=Europe/London:20240110T120000
DTEND;TZID=Europe/London:20240110T130000
LOCATION:United Kingdom
END:VEVENT
BEGIN:VTIMEZONE
TZID:Europe/London
BEGIN:STANDARD
DTSTART:20240110T120000
TZNAME:GMT
TZOFFSETTO:+0000
TZOFFSETFROM:+0000
END:STANDARD
END:VTIMEZONE
END:VCALENDAR
