BEGIN:VCALENDAR
PRODID:-//eluceo/ical//2.0/EN
VERSION:2.0
CALSCALE:GREGORIAN
BEGIN:VEVENT
UID:985ec51f41d5a030ce6d0d5496596be4
DTSTAMP:20260424T010908Z
SUMMARY:Junior Geometry Seminar – Bogdan Simeonov
DESCRIPTION:Title: The crepant resolution conjecture\nSpeaker: Bogdan Simeo
 nov\nAbstract: It was observed by physicists in the late 90s that the geom
 etry of some slightly singular spaces\, for example global quotients by a 
 finite group\, is related to the geometry of a minimal resolution called a
  crepant resolution. These singular spaces are referred to as orbifolds an
 d the crepant resolution conjecture predicts that the Gromov-Witten invari
 ants of orbifolds and their resolutions agree. Throughout the talk\, I wil
 l explain how to define quantum cohomology of orbifolds and give some exam
 ples\, as well as some perspectives coming from symplectic geometry.\n\n\n
 Some snacks will be provided before and after the talk.\nGo to the seminar
  main page.\nSubscribe to the mailing list.\n
URL:https://www.imperial.ac.uk/events/193457/junior-geometry-seminar-bogdan
 -simeonov/
DTSTART;TZID=Europe/London:20250502T173000
DTEND;TZID=Europe/London:20250502T183000
LOCATION:Room 139\, Huxley Building\, South Kensington Campus\, Imperial Co
 llege London\, London\, SW7 2AZ\, United Kingdom
END:VEVENT
BEGIN:VTIMEZONE
TZID:Europe/London
BEGIN:DAYLIGHT
DTSTART:20250502T173000
TZNAME:BST
TZOFFSETTO:+0100
TZOFFSETFROM:+0100
END:DAYLIGHT
END:VTIMEZONE
END:VCALENDAR
