BEGIN:VCALENDAR
PRODID:-//eluceo/ical//2.0/EN
VERSION:2.0
CALSCALE:GREGORIAN
BEGIN:VEVENT
UID:7ee7b07f2efa032eef4644774320d9f2
DTSTAMP:20260425T150941Z
SUMMARY:Canada | Montreal | Postgraduate Study | QS Montreal
DESCRIPTION: Join Katie from our International Student Recruitment Team as 
 QS Montreal. Visit our stand to ask your questions about studying a postgr
 aduate degree at Imperial College London and student life in the UK. Suita
 ble for all postgraduate students and families. 
URL:https://www.imperial.ac.uk/events/197106/canada-montreal-postgraduate-s
 tudy-qs-montreal/
DTSTART;TZID=America/New_York:20250923T173000
DTEND;TZID=America/New_York:20250923T210000
LOCATION:Centre Mont-Royal\, 2200 Mansfield Street\, Montreal\, QC\, H3A3R8
 \, Canada
END:VEVENT
BEGIN:VTIMEZONE
TZID:America/New_York
BEGIN:DAYLIGHT
DTSTART:20250923T173000
TZNAME:EDT
TZOFFSETTO:-0400
TZOFFSETFROM:-0400
END:DAYLIGHT
END:VTIMEZONE
END:VCALENDAR
