BEGIN:VCALENDAR
PRODID:-//eluceo/ical//2.0/EN
VERSION:2.0
CALSCALE:GREGORIAN
BEGIN:VEVENT
UID:cb646e73d115411ec780c3c186ae0974
DTSTAMP:20260420T074835Z
SUMMARY:International gathering
DESCRIPTION:Calling all international students! Whether you’re here for a
  term\, a year\, or your whole degree\, this is the event for you🌎\nCom
 e celebrate the global community at Imperial with an afternoon of fun\, co
 nnection\, and culture. Expect loads of exciting activities\, from cultura
 l games and henna artists to human bingo and more!\nThis is your chance to
  meet other international students\, make new friends\, and win some fun p
 rizes along the way. After an amazing response last year\, we’re bringin
 g it back bigger and better to set another strong foundation for this year
 s new international community!\nThis is a free event\, with no registratio
 n required. See you there👋\n——————————————
 ————————————————————————
 ——————————\nThis event is part of the official Welcome
  Week event line up for Imperial students\, run by Imperial College Union.
 \n🚨Please note any other or external Freshers or Welcome Week events li
 sted as ‘Imperial’ are not hosted by Imperial College Union or officia
 l🚨\nAll official Imperial Welcome Week event tickets hosted by Imperial
  College Union are only available on DICE\, please do not buy tickets from
  any other platform.
URL:https://www.imperial.ac.uk/events/197554/international-gathering/
DTSTART;TZID=Europe/London:20251002T140000
DTEND;TZID=Europe/London:20251002T200000
LOCATION:Metric\, Beit Quad\, Beit Quadrangle\, South Kensington Campus\, I
 mperial College London\, London\, SW7 2AZ\, United Kingdom
END:VEVENT
BEGIN:VTIMEZONE
TZID:Europe/London
BEGIN:DAYLIGHT
DTSTART:20251002T140000
TZNAME:BST
TZOFFSETTO:+0100
TZOFFSETFROM:+0100
END:DAYLIGHT
END:VTIMEZONE
END:VCALENDAR
