BEGIN:VCALENDAR
PRODID:-//eluceo/ical//2.0/EN
VERSION:2.0
CALSCALE:GREGORIAN
BEGIN:VEVENT
UID:d0b1c2db5d299301c346e143233ef19d
DTSTAMP:20260421T123842Z
SUMMARY:Wednesday at Beit
DESCRIPTION:Wednesday at Beit are back! 🍻\nYour official post-sports nig
 ht out at Imperial. Every team\, every club\, and all your course mates wi
 ll be there\, whether it’s just for a pre-drink or an all-night party\, 
 don’t miss Imperial’s biggest regular social.\nThis is the place to be
  every Wednesday during term time to kick off your night. Don’t miss it.
  Free entry every time.\nInformation regarding table bookings TBA via clu
 b captains and social secs.
URL:https://www.imperial.ac.uk/events/197594/wednesday-at-beit-2/
DTSTART;TZID=Europe/London:20251008T180000
DTEND;TZID=Europe/London:20251009T000000
LOCATION:568\, Beit Quadrangle\, South Kensington Campus\, Imperial College
  London\, London\, SW7 2AZ\, United Kingdom
END:VEVENT
BEGIN:VTIMEZONE
TZID:Europe/London
BEGIN:DAYLIGHT
DTSTART:20251008T180000
TZNAME:BST
TZOFFSETTO:+0100
TZOFFSETFROM:+0100
END:DAYLIGHT
END:VTIMEZONE
END:VCALENDAR
