BEGIN:VCALENDAR
PRODID:-//eluceo/ical//2.0/EN
VERSION:2.0
CALSCALE:GREGORIAN
BEGIN:VEVENT
UID:22eac1a46af18cd5b4154647c7018578
DTSTAMP:20260424T210802Z
SUMMARY:Allons enfants – Film Screening
DESCRIPTION:CLCC’s French team is organising a French film night for Impe
 rial students and staff on Friday 28th November from 6pm to 8 pm\, in par
 tnership with the French film festival and the FLEUR network. \nWe will b
 e showing the documentary Allons enfants\, by Thierry Demaizière and Alba
 n Teurial\, in French with English subtitles. This event is free\, but spa
 ces are limited – please book your place using the ‘Register now’ bu
 tton (below/left).\nAbout Allons enfants\nThis upbeat breakdance documenta
 ry follows a group of talented\, ambitious kids from diverse backgrounds a
 s they adjust to life at the Turgot School in the centre of Paris — a mu
 ch swankier high school than they’re used to. It’s a culture shock. Th
 e principal has lifted the geographic zoning barrier to allow students fro
 m less affluent neighbourhoods to attend\, making breakdance a key part of
  the curriculum — and boosting their chances of winning hip-hop battles 
 against competing schools.\n 
URL:https://www.imperial.ac.uk/events/202318/allons-enfants-film-screening/
DTSTART;TZID=Europe/London:20251128T180000
DTEND;TZID=Europe/London:20251128T200000
LOCATION:Room 119\, Sir Alexander Fleming Building\, South Kensington Campu
 s\, Imperial College London\, London\, SW7 2AZ\, United Kingdom
END:VEVENT
BEGIN:VTIMEZONE
TZID:Europe/London
BEGIN:STANDARD
DTSTART:20251128T180000
TZNAME:GMT
TZOFFSETTO:+0000
TZOFFSETFROM:+0000
END:STANDARD
END:VTIMEZONE
END:VCALENDAR
