BEGIN:VCALENDAR
PRODID:-//eluceo/ical//2.0/EN
VERSION:2.0
CALSCALE:GREGORIAN
BEGIN:VEVENT
UID:b8d51a65dcf115488e41b325780dddaa
DTSTAMP:20260423T130643Z
SUMMARY:Uk Uni Search | Undergraduate Study | Oxford
DESCRIPTION:Imperial College London’s Student Recruitment team will be at
 tending this UK Uni Search fair.\nVisit our stand in order to find out mor
 e about a wide range of academic opportunities\, and discover a future tha
 t is right for you by chatting with our staff and students about student l
 ife.\nIf you’re a teacher or adviser\, sign up via the website to make y
 our school’s group booking.
URL:https://www.imperial.ac.uk/events/204196/uk-uni-search-undergraduate-st
 udy-oxford/
DTSTART;TZID=Europe/London:20260617T093000
DTEND;TZID=Europe/London:20260617T143000
LOCATION:Oxford Brookes University\, Headington Road\, Oxford\, OX3 0BP\, U
 nited Kingdom
END:VEVENT
BEGIN:VTIMEZONE
TZID:Europe/London
BEGIN:DAYLIGHT
DTSTART:20260617T093000
TZNAME:BST
TZOFFSETTO:+0100
TZOFFSETFROM:+0100
END:DAYLIGHT
END:VTIMEZONE
END:VCALENDAR
