BEGIN:VCALENDAR
PRODID:-//eluceo/ical//2.0/EN
VERSION:2.0
CALSCALE:GREGORIAN
BEGIN:VEVENT
UID:80f294752c4335c1582db149b6ec4a03
DTSTAMP:20260420T234105Z
SUMMARY:Black @ Imperial: No Internship? No Problem
DESCRIPTION:Haven’t got an internship for the summer? Not sure what to do
  next? Come along to No Internship? No Problem where an experienced career
 s consult from the Imperial Careers Service will share all the advice you 
 need to succeed. Submit your anonymous questions beforehand or ask them in
  the room. After the Q&A\, you’ll work with your peers to plan your next
  steps to build your future career. Free pizza and refreshments will be pr
 ovided. Please note that this event is for Black undergraduate students on
 ly.
URL:https://www.imperial.ac.uk/events/205597/black-imperial-no-internship-n
 o-problem/
DTSTART;TZID=Europe/London:20260319T170000
DTEND;TZID=Europe/London:20260319T190000
LOCATION:060A\, Skempton Building\, South Kensington Campus\, Imperial Coll
 ege London\, London\, SW7 2AZ\, United Kingdom
END:VEVENT
BEGIN:VTIMEZONE
TZID:Europe/London
BEGIN:STANDARD
DTSTART:20260319T170000
TZNAME:GMT
TZOFFSETTO:+0000
TZOFFSETFROM:+0000
END:STANDARD
END:VTIMEZONE
END:VCALENDAR
