BEGIN:VCALENDAR
PRODID:-//eluceo/ical//2.0/EN
VERSION:2.0
CALSCALE:GREGORIAN
BEGIN:VEVENT
UID:2e43903fb5163aa181ccf8ee49929177
DTSTAMP:20260425T214058Z
SUMMARY:Introductory Medical Statistics (held online)
DESCRIPTION:Introductory Medical Statistics\n \nThe Introductory Medical S
 tatistics Course introduces you to basic statistical concepts. The course 
 is run by statisticians and epidemiologists based at the National Heart an
 d Lung Institute (NHLI).\nIt is suitable for: Doctors (including trainee g
 rades)\, nurses\, allied health professionals\, clinical research fellows 
 and postgraduate students.\nFor more information\, please visit the websit
 e:  https://www.medstatscourse.co.uk\nRegistration fees:\n\n£125 – MSc
 /PhD students\n£195 – academic/NHS/charities\n\nThe course will be held
  on Microsoft Teams\, and recordings of the two half days are circulated t
 he following week.  Delegates also receive an individual attendance certi
 ficate.\nWe send the slides out about a week before the event.\nNB: \n\nIm
 perial College staff and students can pay via internal journal/transfer 
 – please contact me if you wish to do this (you don’t then need to boo
 k online).  \nPlaces are offered on a ‘first-come\, first-served’ bas
 is.  We can accommodate 45 delegates only\, and we will close registratio
 n when the event is full. \n\n\nLearning Objectives\nThe learning objecti
 ves\, as submitted to the Royal College of Physicians (who have supplied 6
  CPD points)\, are as follows:\n\nDevelop skills in and understanding of e
 pidemiological study design (of various types)\, including identification 
 and description of different data types\, and selection of appropriate sta
 tistical tests.\nDevelop skills in and understanding of selection of appro
 priate statistical tests.\nUnderstand the principles behind\, and applicat
 ions of\, various forms of regression analysis\, including survival analys
 is.\n\nThe course includes some ‘classroom exercises’ held via Mentime
 ter\, whereby we invite the attendees to submit their answers to certain q
 uestions.  We also have Q&A at the end of each half day.\nWe will supply 
 a PDF attendance certificate after the event.
URL:https://www.imperial.ac.uk/events/205765/introductory-medical-statistic
 s-held-online-6/
DTSTART;TZID=Europe/London:20260521T133000
DTEND;TZID=Europe/London:20260522T090000
LOCATION:United Kingdom
END:VEVENT
BEGIN:VTIMEZONE
TZID:Europe/London
BEGIN:DAYLIGHT
DTSTART:20260521T133000
TZNAME:BST
TZOFFSETTO:+0100
TZOFFSETFROM:+0100
END:DAYLIGHT
END:VTIMEZONE
END:VCALENDAR
