BEGIN:VCALENDAR
PRODID:-//eluceo/ical//2.0/EN
VERSION:2.0
CALSCALE:GREGORIAN
BEGIN:VEVENT
UID:c650d8335a79bdfcf94d32a71ced29e8
DTSTAMP:20260425T214058Z
SUMMARY:Conserving insects in a changing world
DESCRIPTION:Abstract:\nDrawing on ongoing research\, this talk will discuss
  some of the many threats facing insects in the modern world\, and what ca
 n be done to conserve insects and the important ecosystem processes they s
 upport.
URL:https://www.imperial.ac.uk/events/206605/conserving-insects-in-a-changi
 ng-world/
DTSTART;TZID=Europe/London:20260521T130000
DTEND;TZID=Europe/London:20260521T140000
LOCATION:Oak/Birch lecture theatre\, Hamilton Building\, Silwood Park Campu
 s\, Imperial College London\, Berkshire\, SL5 7PY\, United Kingdom
END:VEVENT
BEGIN:VTIMEZONE
TZID:Europe/London
BEGIN:DAYLIGHT
DTSTART:20260521T130000
TZNAME:BST
TZOFFSETTO:+0100
TZOFFSETFROM:+0100
END:DAYLIGHT
END:VTIMEZONE
END:VCALENDAR
