BEGIN:VCALENDAR
PRODID:-//eluceo/ical//2.0/EN
VERSION:2.0
CALSCALE:GREGORIAN
BEGIN:VEVENT
UID:1cd2865abe96d4f5a029fa65a2ebba96
DTSTAMP:20260425T125705Z
SUMMARY:Festival of Products
DESCRIPTION:Our Product Leads and Product Operations team have created the 
 Festival of Products to showcase how the product model delivers value for 
 universities. ​Bringing together peers working on Digital Products acro
 ss organisations to share their experiences\, show impact\, celebrate succ
 ess in Higher Education. To shine a light on product best practices and th
 e future of Digital products.  \nOur inuagural​ festival takes place in
  July 2026 with a Wimbledon theme.\nCheck back later for the scedule of ta
 lks\, panel discussions\, key note speakers and more!\n​Welcome to the F
 estival of Products – Serving up innovation in HE\nAs Wimbledon serves u
 p world‑class tennis this July\, we’re bringing our own winning energy
  to the world of Product Operations\, Agile Product Management\, and conti
 nuous improvement within HE. Think of this event as our chance to rally to
 gether\, sharpen our skills\, and smash through challenges with best pract
 ice ways of working.\nBut this isn’t just a one‑off match. The Festiva
 l is the starting point for a new community of practice\, a collaborative 
 league of universities and tech partners who are ready to share knowledge\
 , trade tactics\, and work together to raise everyone’s game.\nSo\, grab
  your racquet (or\, just a coffee)\, take your seat\, and get ready for a 
 day of learning\, networking\, and product innovation that’s set to be a
  real ace.\nDate: Thursday 02 July\nTime: 10.00-16.00\nLocation: Imperial 
 College London\, South Kensington Campus\nRegister by completing the below
  form and we will be in touch with the agenda\, keynote speakers\, guest p
 anel\, exhibitors and more.\nGame on!
URL:https://www.imperial.ac.uk/events/206685/festival-of-products/
DTSTART;TZID=Europe/London:20260702T100000
DTEND;TZID=Europe/London:20260702T160000
LOCATION:LGS lecture theatre\, Imperial Business School\, South Kensington 
 Campus\, Imperial College London\, London\, SW7 2AZ\, United Kingdom
END:VEVENT
BEGIN:VTIMEZONE
TZID:Europe/London
BEGIN:DAYLIGHT
DTSTART:20260702T100000
TZNAME:BST
TZOFFSETTO:+0100
TZOFFSETFROM:+0100
END:DAYLIGHT
END:VTIMEZONE
END:VCALENDAR
