BEGIN:VCALENDAR
PRODID:-//eluceo/ical//2.0/EN
VERSION:2.0
CALSCALE:GREGORIAN
BEGIN:VEVENT
UID:78a8ce9585ec4ea0ea7e70a721681c13
DTSTAMP:20260424T001531Z
SUMMARY:Imperial Maths School Poster Conference Day
DESCRIPTION:The Imperial Maths school students will give 20 minute presenta
 tions and have made posters about their research projects. RSMG41 for anyo
 ne that would like to drop by to see what they’ve been getting up to! Th
 anks to all staff and PhD students that supported the students this year!
URL:https://www.imperial.ac.uk/events/207830/imperial-maths-school-poster-c
 onference-day/
DTSTART;TZID=Europe/London:20260327T130000
DTEND;TZID=Europe/London:20260327T170000
LOCATION:xxx\, Royal School Of Mines\, South Kensington Campus\, Imperial C
 ollege London\, London\, SW7 2AZ\, United Kingdom
END:VEVENT
BEGIN:VTIMEZONE
TZID:Europe/London
BEGIN:STANDARD
DTSTART:20260327T130000
TZNAME:GMT
TZOFFSETTO:+0000
TZOFFSETFROM:+0000
END:STANDARD
END:VTIMEZONE
END:VCALENDAR
