BEGIN:VCALENDAR
PRODID:-//eluceo/ical//2.0/EN
VERSION:2.0
CALSCALE:GREGORIAN
BEGIN:VEVENT
UID:cbc4768e18444199a6997eb0e7ef186e
DTSTAMP:20260421T055012Z
SUMMARY:Alumni gathering in Amsterdam
DESCRIPTION:\n\nIn April\, we’re excited to invite you to an informal alu
 mni gathering in Amsterdam!\nThis is a chance to reconnect with fellow Imp
 erial graduates\, catch up on what’s happening at the school\, and hear 
 directly from two key staff representatives. Lisa Umenyiora (Executive Dir
 ector\, Careers & Student Life) and Alina Servillat (Regional Relationship
  Lead\, Europe) are joining us to share the latest news and insights from 
 the school.\nImperial is actively building its European Careers Hub – an
 d we’d love to hear your thoughts\, experiences\, and ideas about how we
  can strengthen the European connections of the school.\nWhether you’re 
 curious about career opportunities\, want to support upcoming students\, o
 r simply keen to reconnect with the community\, this is the perfect moment
  to engage.\nKey details\nDate: Wednesday 22 April\nTime: 17.30 – 19.30\
 nLocation: Dickys Grand Café\nTickets: Free\n\n
URL:https://www.imperial.ac.uk/events/208250/alumni-gathering-in-amsterdam/
DTSTART;TZID=Europe/Amsterdam:20260422T173000
DTEND;TZID=Europe/Amsterdam:20260422T193000
LOCATION:Dickys Grand Cafe\, Gustav Mahlerplein 110\, Amsterdam\, Netherlan
 ds
END:VEVENT
BEGIN:VTIMEZONE
TZID:Europe/Amsterdam
BEGIN:DAYLIGHT
DTSTART:20260422T173000
TZNAME:CEST
TZOFFSETTO:+0200
TZOFFSETFROM:+0200
END:DAYLIGHT
END:VTIMEZONE
END:VCALENDAR
