BEGIN:VCALENDAR
PRODID:-//eluceo/ical//2.0/EN
VERSION:2.0
CALSCALE:GREGORIAN
BEGIN:VEVENT
UID:7d94624f007d7e458d3c87d4657084f0
DTSTAMP:20260419T215119Z
SUMMARY:Postgraduate Study | MSc Computational Biomedicine (both streams) V
 irtual Open Event
DESCRIPTION:Our Virtual Open Event\, on Thursday\, 14 May 2026\, 16.00-17.0
 0\, is a great way to find out more about studying MSc Computational Biome
 dicine (both streams) at Imperial’s Faculty of Medicine.\nThis virtual e
 vent will include:\n\nIntroduction to Imperial and the MSc Computational B
 iomedicine\nOverview of the two stream options\nQuestion and Answer Sessio
 n with the programme director and senior teaching fellow.\n\nOur Virtual O
 pen Event is a great opportunity to quiz our teams and decide if this cour
 se is for you. We look forward to seeing you there.\nAbout the MSc Computa
 tional Biomedicine\nA newly developed curriculum brings together training 
 in the latest advances in computational biology and is delivered flexibly 
 to suit all learners.\nAlongside online lectures and training material\, t
 his course also uses novel live synchronous sessions delivered via virtual
  reality (VR) technologies\, which enables interactions in virtual spaces 
 between lecturers and students and provides unique learning opportunities.
 \nYou will take modules in computational biology\, and specialist streams 
 in either computational genomics or computational brain sciences\, togethe
 r with a six month computational research project that provides training i
 n computational biomedicine.\n \n 
URL:https://www.imperial.ac.uk/events/208265/postgraduate-study-msc-computa
 tional-biomedicine-both-streams-virtual-open-event-may26/
DTSTART;TZID=Europe/London:20260514T160000
DTEND;TZID=Europe/London:20260514T170000
LOCATION:United Kingdom
END:VEVENT
BEGIN:VTIMEZONE
TZID:Europe/London
BEGIN:DAYLIGHT
DTSTART:20260514T160000
TZNAME:BST
TZOFFSETTO:+0100
TZOFFSETFROM:+0100
END:DAYLIGHT
END:VTIMEZONE
END:VCALENDAR
