BEGIN:VCALENDAR
PRODID:-//eluceo/ical//2.0/EN
VERSION:2.0
CALSCALE:GREGORIAN
BEGIN:VEVENT
UID:f5e2f56a96de29a224f7a1c30ba4dd81
DTSTAMP:20260423T193506Z
SUMMARY:Imperial Black Excellence: Exploring Entrepreneurship
DESCRIPTION:Imperial Black Excellence: Exploring Entrepreneurship is an in-
 person panel and networking event as part of the Imperial BE series. The e
 vent brings together accomplished Black and Mixed-Black founders to share 
 honest insights from their startup journeys\, including raising investment
 \, building ventures\, and developing a personal brand.\nAttendees will ha
 ve the opportunity to hear unfiltered experiences\, ask tough questions\, 
 and connect with founders and peers interested in entrepreneurship. The ev
 ent is open to Imperial students\, staff and alumni of Black heritage\, wh
 ether they are exploring an idea or already building a venture.
URL:https://www.imperial.ac.uk/events/208281/imperial-black-excellence-expl
 oring-entrepreneurship/
DTSTART;TZID=Europe/London:20260507T173000
DTEND;TZID=Europe/London:20260507T200000
LOCATION:Enterprise Lab\, Sherfield Building\, South Kensington Campus\, Im
 perial College London\, London\, SW7 2AZ\, United Kingdom
END:VEVENT
BEGIN:VTIMEZONE
TZID:Europe/London
BEGIN:DAYLIGHT
DTSTART:20260507T173000
TZNAME:BST
TZOFFSETTO:+0100
TZOFFSETFROM:+0100
END:DAYLIGHT
END:VTIMEZONE
END:VCALENDAR
