BEGIN:VCALENDAR
PRODID:-//eluceo/ical//2.0/EN
VERSION:2.0
CALSCALE:GREGORIAN
BEGIN:VEVENT
UID:817ba713e3964ea66b73e1d6d4fd8ef3
DTSTAMP:20260423T204606Z
SUMMARY:Fluid Dynamics Seminar: Quentin Kriaa (Cambridge)
DESCRIPTION:
URL:https://www.imperial.ac.uk/events/208379/fluid-dynamics-seminar-quentin
 -kriaa-cambridge/
DTSTART;TZID=Europe/London:20260605T140000
DTEND;TZID=Europe/London:20260605T150000
LOCATION:140\, Huxley Building\, South Kensington Campus\, Imperial College
  London\, London\, SW7 2AZ\, United Kingdom
END:VEVENT
BEGIN:VTIMEZONE
TZID:Europe/London
BEGIN:DAYLIGHT
DTSTART:20260605T140000
TZNAME:BST
TZOFFSETTO:+0100
TZOFFSETFROM:+0100
END:DAYLIGHT
END:VTIMEZONE
END:VCALENDAR
