BEGIN:VCALENDAR
PRODID:-//eluceo/ical//2.0/EN
VERSION:2.0
CALSCALE:GREGORIAN
BEGIN:VEVENT
UID:bbd14708dd1d6389fa97dc7b71263302
DTSTAMP:20260420T095723Z
SUMMARY:Lifelong Learning Launch
DESCRIPTION:All staff are invited to attend the launch of Imperial Lifelong
  Learning.\nImperial Lifelong Learning will enable us to achieve the ambit
 ion set out in our Science for Humanity Strategy to future-proof careers\,
  through translating Imperial’s world-leading research into learning tha
 t builds real-world capability for individuals\, organisations and communi
 ties at every stage of life.\nYou will have the opportunity to hear from I
 mperial’s President Professor Hugh Brady and Heather Haseley\, Chief Lif
 elong Learning Officer\, as well as exploring the interactive showcase zon
 e featuring innovative tech and demonstrations.\n\n \n\nProgramme\n14.45
  Registration15.15 Welcome remarks from Professor Hugh Brady\, President
 \, Imperial College London 15.20 Remarks from Heather Haseley\, Chief Li
 felong Learning Officer\, Imperial College London 15.25 Networking and s
 howcase 17.00 Close of event \n\n\n \n
URL:https://www.imperial.ac.uk/events/208463/lifelong-learning-launch/
DTSTART;TZID=Europe/London:20260428T144500
DTEND;TZID=Europe/London:20260428T170000
LOCATION:Main Entrance\, South Kensington Campus\, London\, United Kingdom
END:VEVENT
BEGIN:VTIMEZONE
TZID:Europe/London
BEGIN:DAYLIGHT
DTSTART:20260428T144500
TZNAME:BST
TZOFFSETTO:+0100
TZOFFSETFROM:+0100
END:DAYLIGHT
END:VTIMEZONE
END:VCALENDAR
