BEGIN:VCALENDAR
PRODID:-//eluceo/ical//2.0/EN
VERSION:2.0
CALSCALE:GREGORIAN
BEGIN:VEVENT
UID:a88d53b8ca3de1ffd15f174800f9b532
DTSTAMP:20260423T135940Z
SUMMARY:Faculty of Medicine Staff Rounds | 12.30 Professor Amin Hajitou\, P
 rofessor of Targeted Therapeutics [Brain Sciences] | 13.00 Dr Shamith Sama
 rajiwa\, Associate Professor in Genomics  [Metabolism\, Digestion and Repr
 oduction]
DESCRIPTION:The Faculty of Medicine Staff Round series brings together acad
 emics and clinicians across the University and our NHS partners to explore
  and showcase how engagement with patients and treating clinical cases lea
 ds to scientific research which can benefit patients and populations.\nCha
 ir:\nProfessor Marc Dumas\nSpeaker details:\n\n\n\n12.30 to 13.00\n\n\nPro
 fessor Amin Hajitou\, Professor of Targeted Therapeutics [Department of Br
 ain Sciences]\n\n‘Bacteriophage Platforms for Targeted Systemic Delivery
  in Precision Oncology: Treatment of Brain Tumours and Brain Metastases Ac
 ross the Blood–Brain Barrier’ \n\n\n13.00 to 13.30\n\n\n\n\nDr Shamit
 h Samarajiwa\, Associate Professor in Genomics [Metabolism\, Digestion and
  Reproduction]\n\n‘Use of epigenomic state changes\, and AI to detect an
 d understand Cancer’\n\n\n\nThis is an internal only event.  On-campus 
 venues and online streaming details for this session can be found on the F
 oM Staff Round webpage (requires log-in): https://www.imperial.ac.uk/medic
 ine/fom-staff/staff-rounds/\n 
URL:https://www.imperial.ac.uk/events/208487/fomstaffrounds22-04-2026/
DTSTART;TZID=Europe/London:20260422T123000
DTEND;TZID=Europe/London:20260422T133000
LOCATION:This internal event is presented live and/or streamed to a number 
 of venues across our campuses and can also be watched online\, See FoM Sta
 ff Round webpage for details\, London\, United Kingdom
END:VEVENT
BEGIN:VTIMEZONE
TZID:Europe/London
BEGIN:DAYLIGHT
DTSTART:20260422T123000
TZNAME:BST
TZOFFSETTO:+0100
TZOFFSETFROM:+0100
END:DAYLIGHT
END:VTIMEZONE
END:VCALENDAR
