BEGIN:VCALENDAR
PRODID:-//eluceo/ical//2.0/EN
VERSION:2.0
CALSCALE:GREGORIAN
BEGIN:VEVENT
UID:f3457c6a8e9bcef52ec5ad748f554f68
DTSTAMP:20260422T050238Z
SUMMARY:Imperial Alumni USA Virtual Webinar
DESCRIPTION:\n\nAn event by Imperial College London for alumni.\n\n\n\n\nCu
 rious about Imperial’s presence in the US? Join alumni from coast to coa
 st for a virtual conversation about what Imperial Global Hub USA is buildi
 ng\, the alumni communities growing across the country\, and the many ways
  to stay connected — whether you’re in San Francisco\, Boston\, or any
 where in between.\nWe’ll hear from alumni based across the US\, shine a 
 light on regional groups from coast to coast\, and talk honestly about wha
 t it means to be part of the Imperial community from this side of the Atla
 ntic.\nThis is a virtual event hosted on Zoom. A link to join will be sent
  after registration.\n\n
URL:https://www.imperial.ac.uk/events/208496/imperial-alumni-usa-virtual-we
 binar/
DTSTART;TZID=America/New_York:20260505T200000
DTEND;TZID=America/New_York:20260505T210000
LOCATION:United Kingdom
END:VEVENT
BEGIN:VTIMEZONE
TZID:America/New_York
BEGIN:DAYLIGHT
DTSTART:20260505T200000
TZNAME:EDT
TZOFFSETTO:-0400
TZOFFSETFROM:-0400
END:DAYLIGHT
END:VTIMEZONE
END:VCALENDAR
