BEGIN:VCALENDAR
PRODID:-//eluceo/ical//2.0/EN
VERSION:2.0
CALSCALE:GREGORIAN
BEGIN:VEVENT
UID:f660255ba199391cd9d84d2df65d6269
DTSTAMP:20260423T093933Z
SUMMARY:Celcat Live training session – classroom based
DESCRIPTION:IMPORTANT: Before signing for the class please ensure you have
  completed the Write access permissions form and it has been authorised
  by your departmental timetabling contact.  Once the form is submitted a
 n automatic email will be send to your departmental approver for approval/
 rejection. \nPlease only register on the course once you know you have b
 een granted access to Celcat.\nPLEASE BRING YOUR OWN LATOP (and charger if
  necessary).\nThe class content covers\n\nUser preferences\nAdding new eve
 nts\nEditing existing events\nSegmenting and Splitting events\nDeleting ev
 ents\nFiltering resource data using the filtering functionality\nFinding e
 vents via the Event ID\nUnderstanding the Clash Checker functionality\nDup
 licating and/or moving events\nUsage charts – using them to see your dep
 artments rooms and their availability in specified weeks\nMultiple Selecti
 on Lists\nUsing the room adviser functionality to find free space rooms in
  other departments\nEmailing room requests via Celcat or completing depart
 mental room request forms\nPublication Windows\nTimetable Products\n\nIMPO
 RTANT BOOKING INFORMATION\nTo book training please go to ICIS and click on
  ‘My Training’.  To enrol on the course\, please enter ‘Celcat’ i
 n the Search box (select all) and click the ‘Go’ button.  If you have
  any problems registering please email the Central Timetabling Support Off
 ice at timetabling@imperial.ac.uk\n 
URL:https://www.imperial.ac.uk/events/208514/celcat-live-training-session-c
 lassroom-based-45/
DTSTART;TZID=Europe/London:20260513T093000
DTEND;TZID=Europe/London:20260513T123000
LOCATION:ASL 5.02 - SALC 2 (Access through SHERFIELD BUILDING)\, Sherfield 
 Building\, South Kensington Campus\, Imperial College London\, London\, SW
 7 2AZ\, United Kingdom
END:VEVENT
BEGIN:VTIMEZONE
TZID:Europe/London
BEGIN:DAYLIGHT
DTSTART:20260513T093000
TZNAME:BST
TZOFFSETTO:+0100
TZOFFSETFROM:+0100
END:DAYLIGHT
END:VTIMEZONE
END:VCALENDAR
