BEGIN:VCALENDAR
PRODID:-//eluceo/ical//2.0/EN
VERSION:2.0
CALSCALE:GREGORIAN
BEGIN:VEVENT
UID:596d089b0105160a774c257c03be3efe
DTSTAMP:20260420T095722Z
SUMMARY:Faculty of Medicine Staff Rounds | 12.30 Dr Tom McKinnon\, Associat
 e Professor in Thrombosis and Haemostasis [Immunology & Inflammation]  | 1
 3.00 Dr David Antcliffe\, Clinical Associate Professor in Critical Medicin
 e [Surgery & Cancer]
DESCRIPTION:The Faculty of Medicine Staff Round series brings together acad
 emics and clinicians across the University and our NHS partners to explore
  and showcase how engagement with patients and treating clinical cases lea
 ds to scientific research which can benefit patients and populations.\nCha
 ir:\nProfessor Karim Meeran \nSpeaker details:\n\n\n\n12.30 to 13.00\n\nD
 r Tom McKinnon\, Associate Professor in Thrombosis and Haemostasis [Immuno
 logy & Inflammation]\n\n‘TBC\n\n13.00 to 13.30\n\n\n\nDr David Antcliffe
 \, Clinical Associate Professor in Critical Medicine [Surgery & Cancer]\n\
 n‘Host response to critical illness: the pathway to sepsis precision med
 icine’\n\nThis is an internal only event.  On-campus venues and online 
 streaming details for this session can be found on the FoM Staff Round web
 page (requires log-in): https://www.imperial.ac.uk/medicine/fom-staff/staf
 f-rounds/\n 
URL:https://www.imperial.ac.uk/events/208518/06-may-2026/
DTSTART;TZID=Europe/London:20260506T123000
DTEND;TZID=Europe/London:20260506T133000
LOCATION:This internal event is presented live and/or streamed to a number 
 of venues across our campuses and can also be watched online\, See FoM Sta
 ff Round webpage for details\, London\, United Kingdom
END:VEVENT
BEGIN:VTIMEZONE
TZID:Europe/London
BEGIN:DAYLIGHT
DTSTART:20260506T123000
TZNAME:BST
TZOFFSETTO:+0100
TZOFFSETFROM:+0100
END:DAYLIGHT
END:VTIMEZONE
END:VCALENDAR
