BEGIN:VCALENDAR
PRODID:-//eluceo/ical//2.0/EN
VERSION:2.0
CALSCALE:GREGORIAN
BEGIN:VEVENT
UID:4e827f4fd1528664324683bd84d172ec
DTSTAMP:20260423T093933Z
SUMMARY:Offer Holder Webinar | Undergraduate and Postgraduate | Middle East
  & North Africa
DESCRIPTION:This event will bring together Imperial College London offer ho
 lders in the Middle East and North Africa for an opportunity to receive us
 eful information\, ask questions about next steps\, and learn more about p
 reparing to join Imperial.
URL:https://www.imperial.ac.uk/events/208561/offer-holder-webinar-me-na2/
DTSTART;TZID=Europe/London:20260512T150000
DTEND;TZID=Europe/London:20260512T160000
LOCATION:United Kingdom
END:VEVENT
BEGIN:VTIMEZONE
TZID:Europe/London
BEGIN:DAYLIGHT
DTSTART:20260512T150000
TZNAME:BST
TZOFFSETTO:+0100
TZOFFSETFROM:+0100
END:DAYLIGHT
END:VTIMEZONE
END:VCALENDAR
