BEGIN:VCALENDAR
PRODID:-//eluceo/ical//2.0/EN
VERSION:2.0
CALSCALE:GREGORIAN
BEGIN:VEVENT
UID:9cfebeef640885b25658bb709caf595c
DTSTAMP:20260422T211031Z
SUMMARY:Statistics Seminar: Rebecca Killick (Lancaster)
DESCRIPTION:14:00 – 15:00 – Rebecca Killick (Lancaster)\nTitle:TBA\nAb
 stract: TBA\nRefreshments available between 15:00 – 15:30\, Huxley Commo
 n Room (HXLY 549)
URL:https://www.imperial.ac.uk/events/208616/statistics-seminar-rebecca-kil
 lick-lancaster/
DTSTART;TZID=Europe/London:20260508T140000
DTEND;TZID=Europe/London:20260508T150000
LOCATION:HXLY139\, Huxley Building\, South Kensington Campus\, Imperial Col
 lege London\, London\, SW7 2AZ\, United Kingdom
END:VEVENT
BEGIN:VTIMEZONE
TZID:Europe/London
BEGIN:DAYLIGHT
DTSTART:20260508T140000
TZNAME:BST
TZOFFSETTO:+0100
TZOFFSETFROM:+0100
END:DAYLIGHT
END:VTIMEZONE
END:VCALENDAR
