BEGIN:VCALENDAR
PRODID:-//eluceo/ical//2.0/EN
VERSION:2.0
CALSCALE:GREGORIAN
BEGIN:VEVENT
UID:020fb74d97516ef10f4a52b84595b9b8
DTSTAMP:20260424T220121Z
SUMMARY:Sustainable Labs Celebration and Awards
DESCRIPTION:Join us to celebrate achievements through LEAF (Laboratory Effi
 ciency Assessment Framework)\, My Green Lab\, and beyond. The event will 
 feature lab case studies\, sustainability updates\, and the Sustainable La
 bs Awards\, followed by networking over lunch\, coffee\, and cake. Sign u
 p early – only 60 places available!\nWe are also excited to open nominat
 ions for the Sustainable Labs Awards – recognising individuals driving 
 real impact in lab sustainability.\nNomination deadline: Tuesday 12 May 17
 :00.  
URL:https://www.imperial.ac.uk/events/208659/sustainable-labs-celebration-a
 nd-awards/
DTSTART;TZID=Europe/London:20260610T113000
DTEND;TZID=Europe/London:20260610T140000
LOCATION:Queen's Tower Rooms\, Sherfield Building\, South Kensington Campus
 \, Imperial College London\, London\, SW7 2AZ\, United Kingdom
END:VEVENT
BEGIN:VTIMEZONE
TZID:Europe/London
BEGIN:DAYLIGHT
DTSTART:20260610T113000
TZNAME:BST
TZOFFSETTO:+0100
TZOFFSETFROM:+0100
END:DAYLIGHT
END:VTIMEZONE
END:VCALENDAR
