BEGIN:VCALENDAR
PRODID:-//eluceo/ical//2.0/EN
VERSION:2.0
CALSCALE:GREGORIAN
BEGIN:VEVENT
UID:214c306719cccf9c7a04f86d1eb8de1d
DTSTAMP:20260423T181156Z
SUMMARY:Canada | Toronto | Offer Holders Event
DESCRIPTION:Join Catherine from the International Student Recruitment Team 
 for this informal meet-up to answer your questions about studying at Imper
 ial\, the next steps and moving to London.\n\nYou’ll also have the oppor
 tunity to meet fellow offer holders and build your Imperial network.
URL:https://www.imperial.ac.uk/events/208664/canada-toronto-offer-holders-e
 vent/
DTSTART;TZID=America/Halifax:20260503T173000
DTEND;TZID=America/Halifax:20260503T190000
LOCATION:First & Last Coffee Shop\, 346 Dupont Street\, Toronto\, ON\, M5R1
 V9\, Canada
END:VEVENT
BEGIN:VTIMEZONE
TZID:America/Halifax
BEGIN:DAYLIGHT
DTSTART:20260503T173000
TZNAME:ADT
TZOFFSETTO:-0300
TZOFFSETFROM:-0300
END:DAYLIGHT
END:VTIMEZONE
END:VCALENDAR
