BEGIN:VCALENDAR
PRODID:-//eluceo/ical//2.0/EN
VERSION:2.0
CALSCALE:GREGORIAN
BEGIN:VEVENT
UID:2db84d1fb8f567137f56746af5c1f722
DTSTAMP:20260421T090748Z
SUMMARY:Undergraduate Study | Year 12 Taster Course | Future Computing
DESCRIPTION:Registration opens at 12:00 (midday) on Friday 1 May 2026. \nJ
 oin staff and students from the Department of Computing at Imperial Colleg
 e London to explore our undergraduate Computing courses and gain insight i
 nto life as an Imperial student. The session will include student project 
 presentations\, research talks from leading academics\, and the opportunit
 y to take part in a hands‑on programming activity in our computer labs.\
 nThis event is designed for Year 12 students (or equivalent) who are inter
 ested in studying Computing and Joint Maths and Computing (JMC) at univers
 ity.\n 
URL:https://www.imperial.ac.uk/events/208669/undergraduate-study-year-12-ta
 ster-course-future-computing-2026/
DTSTART;TZID=Europe/London:20260610T103000
DTEND;TZID=Europe/London:20260610T170000
LOCATION:Level 3\, Huxley Building\, South Kensington Campus\, Imperial Col
 lege London\, London\, SW7 2AZ\, United Kingdom
END:VEVENT
BEGIN:VTIMEZONE
TZID:Europe/London
BEGIN:DAYLIGHT
DTSTART:20260610T103000
TZNAME:BST
TZOFFSETTO:+0100
TZOFFSETFROM:+0100
END:DAYLIGHT
END:VTIMEZONE
END:VCALENDAR
