BEGIN:VCALENDAR
PRODID:-//eluceo/ical//2.0/EN
VERSION:2.0
CALSCALE:GREGORIAN
BEGIN:VEVENT
UID:6362c3ba1facc4fa76d3c7a1ce688c70
DTSTAMP:20260424T210802Z
SUMMARY:Virtual Open Day | MSc Cleantech Innovation
DESCRIPTION:Embark on the next chapter of your academic journey at Imperial
  College London\, and become a Cleantech pioneer through collaboration wit
 h designers\, engineers and scientists. The MSc Cleantech Innovation progr
 amme is designed to provide aspiring climate entrepreneurs with the skills
  and knowledge necessary to create revolutionary cleantech innovation\, an
 d is jointly delivered through the Dyson School of Design Engineering and 
 the Grantham Institute – Climate Change and the Environment. You will ha
 ve the opportunity to meet and learn from expert innovators across the cle
 antech spectrum.\nThe course includes individual and group components\, ac
 ross a variety of modes including videos\, written work\, invention\, prot
 otyping and business planning. You will work with collaborators\, inside a
 nd outside Imperial\, to help make your cleantech solutions a reality!\nJo
 in this Virtual Open Day to learn more about the MSc\, the entry requireme
 nts and selection process\, as well as an opportunity to ask questions liv
 e to the programme directors\, and current students.\nFor any course speci
 fic queries\, please contact: cleantech@imperial.ac.uk\n \nOur courses ar
 e highly competitive\, so we recommend applying as early as possible to se
 cure a place.\n \nThis Virtual Open Day will be hosted on Teams Webinar.
   If you can’t attend either session live\, please register anyway to r
 eceive a recording of the event.
URL:https://www.imperial.ac.uk/events/208712/virtual-open-day-msc-cleantech
 -innovation/
DTSTART;TZID=Europe/London:20260511T120000
DTEND;TZID=Europe/London:20260511T130000
LOCATION:United Kingdom
END:VEVENT
BEGIN:VTIMEZONE
TZID:Europe/London
BEGIN:DAYLIGHT
DTSTART:20260511T120000
TZNAME:BST
TZOFFSETTO:+0100
TZOFFSETFROM:+0100
END:DAYLIGHT
END:VTIMEZONE
END:VCALENDAR
