BEGIN:VCALENDAR
PRODID:-//eluceo/ical//2.0/EN
VERSION:2.0
CALSCALE:GREGORIAN
BEGIN:VEVENT
UID:ac50fcf39b60f4f9f876e5d404cfd327
DTSTAMP:20260423T202500Z
SUMMARY:Green Science Festival
DESCRIPTION:Imperial College will be the London satellite location for the 
 Green Science Festival 2026\, taking place in Amsterdam.\nWe will be strea
 ming the festival throughout the day on Thursday\, 28 May 2026\, creating 
 an opportunity for colleagues in London to drop in\, connect\, and engage 
 with the programme locally. This would be a full-day event focused on adva
 ncing environmental sustainability in research\, featuring inspiring prese
 ntations\, interactive break-out sessions\, and opportunities to network.\
 nWe warmly invite you to save the date and share with your colleagues!\nYo
 u can find the festival programme here: Green Science Festival 2026 – Gr
 een Labs NL\n📍 Location: South Kensington campus – details will be se
 nt via email upon registration.\n🔗 Registration: Please sign up via Eve
 ntbrite.\n☕ Refreshments: Coffee and snacks will be provided.\nWe hope t
 o see many of you at Imperial for a day of sustainability\, collaboration\
 , and inspiration! We aim to bring the festival experience to our universi
 ty!
URL:https://www.imperial.ac.uk/events/208718/green-science-festival/
DTSTART;TZID=Europe/London:20260528T090000
DTEND;TZID=Europe/London:20260528T170000
LOCATION:Venue tbc\, The Queen's Tower\, South Kensington Campus\, Imperial
  College London\, London\, SW7 2AZ\, United Kingdom
END:VEVENT
BEGIN:VTIMEZONE
TZID:Europe/London
BEGIN:DAYLIGHT
DTSTART:20260528T090000
TZNAME:BST
TZOFFSETTO:+0100
TZOFFSETFROM:+0100
END:DAYLIGHT
END:VTIMEZONE
END:VCALENDAR
