BEGIN:VCALENDAR
PRODID:-//eluceo/ical//2.0/EN
VERSION:2.0
CALSCALE:GREGORIAN
BEGIN:VEVENT
UID:7bf1edba1f6cd6262c28079a1b7f6493
DTSTAMP:20260422T121833Z
SUMMARY:I-Explore Q&A Session 2026
DESCRIPTION:Will you be entering your I-Explore year in October? Do you sti
 ll have questions about how the programme works? Then this session is for 
 you.\nDr Caroline Clewley\, I-Explore Lead (accompanied by representatives
  from the I-Explore Streams)\, will explain the I-Explore offering for UG 
 students. The floor with then be open for questions about the programme or
  any of its streams.\n\nImperial Horizons\nBusiness for Professional Engin
 eers and Scientists (BPES)\nSTEMM Modules\n\nThis event is only open to st
 udents starting their I-Explore year in October 2026. These are:\n\nCurren
 t 1st Year Physics\, 1st Year Maths\, 1st Year Life Sciences\, 1st Year Me
 dicine or 1st Year Design Engineering students. Your I-Explore Year is Yea
 r 2 of your degree.\nCurrent 2nd Year Chemistry\, 2nd Year Business School
  or 2nd Year Engineering (all degrees except Design Engineering) students.
  Your I-Explore Year is Year 3 of your degree.\n\nTo attend this session\,
  there is no need to register in advance\, however space is limited to the
  capacity of the lecture theatre.
URL:https://www.imperial.ac.uk/events/208815/i-explore-qa-2627/
DTSTART;TZID=Europe/London:20260521T120000
DTEND;TZID=Europe/London:20260521T130000
LOCATION:HXLY 308\, Huxley Building\, South Kensington Campus\, Imperial Co
 llege London\, London\, SW7 2AZ\, United Kingdom
END:VEVENT
BEGIN:VTIMEZONE
TZID:Europe/London
BEGIN:DAYLIGHT
DTSTART:20260521T120000
TZNAME:BST
TZOFFSETTO:+0100
TZOFFSETFROM:+0100
END:DAYLIGHT
END:VTIMEZONE
END:VCALENDAR
