BEGIN:VCALENDAR
PRODID:-//eluceo/ical//2.0/EN
VERSION:2.0
CALSCALE:GREGORIAN
BEGIN:VEVENT
UID:4155d91105fd7bf1717c03087bcefcc9
DTSTAMP:20260424T010909Z
SUMMARY:April 2026 CDT Breakfast Mornings
DESCRIPTION:Our popular CDT Breakfast mornings are held every Wednesday in 
 Costa\, Ground Floor I-Hub\, White City Campus\, 09:30-10:30\nApril 2026 d
 ates:\n\n01/04/20226\n15/04/2026\n22/04/2026\n29/04/2026\n\nThere will be 
 a selection of coffee\, tea\, juices\, fruit and pastries\; a non-dairy al
 ternative milk will be available alongside milk.\nPlease do bring your own
  coffee cups where possible!\nSomeone from the ICB CDT Management will be 
 present at each coffee morning if there is anything you would like to chat
  about.\nWe look forward to catching up with you on Wednesdays!
URL:https://www.imperial.ac.uk/events/208944/april-2026-cdt-breakfast-morni
 ngs/
DTSTART;TZID=Europe/London:20260429T093000
DTEND;TZID=Europe/London:20260429T103000
LOCATION:LN2 Costa\, Ground Floor I-HUB\, Translation and Innovation Hub (I
 -HUB)\, White City Campus\, Imperial College London\, London\, W12 0BZ\, U
 nited Kingdom
END:VEVENT
BEGIN:VTIMEZONE
TZID:Europe/London
BEGIN:DAYLIGHT
DTSTART:20260429T093000
TZNAME:BST
TZOFFSETTO:+0100
TZOFFSETFROM:+0100
END:DAYLIGHT
END:VTIMEZONE
END:VCALENDAR
