BEGIN:VCALENDAR
PRODID:-//eluceo/ical//2.0/EN
VERSION:2.0
CALSCALE:GREGORIAN
BEGIN:VEVENT
UID:0e1184bf22e89ff7cc602cdc19fd0af6
DTSTAMP:20260424T010911Z
SUMMARY:Science and Communication with the BBC
DESCRIPTION:ICB CDT Transferable Skills training: Science and Communication
  with the BBC\nThis course aims to give students hands-on experience in wh
 at it is like to produce radio and television content\, whilst giving prac
 tical guidance in science communication. The highlights are visits to BBC 
 Broadcasting House in central London\, and to the Science Museum in South 
 Kensington.\nAims and objectives\n\nto explore the various ways in which t
 he research community engages with non-specialist audiences\nto survey the
  various social media platforms and discover which best suits your researc
 h and communication agenda\nto give a first-hand insight into how the medi
 a works\nto practise media techniques like interviewing\, scriptwriting an
 d presenting\nto acquire a renewed\, savvy attitude to the media and wider
  engagement\nto experiment across media platforms in the supportive and sa
 fe space of our friendly\, informal training environment\nto have fun!\n
URL:https://www.imperial.ac.uk/events/208950/science-and-communication-with
 -the-bbc-3/
DTSTART;TZID=Europe/London:20260506T103000
DTEND;TZID=Europe/London:20260507T180000
LOCATION:SALC 8\, Sherfield Building\, South Kensington Campus\, Imperial C
 ollege London\, London\, SW7 2AZ\, United Kingdom
END:VEVENT
BEGIN:VTIMEZONE
TZID:Europe/London
BEGIN:DAYLIGHT
DTSTART:20260506T103000
TZNAME:BST
TZOFFSETTO:+0100
TZOFFSETFROM:+0100
END:DAYLIGHT
END:VTIMEZONE
END:VCALENDAR
