BEGIN:VCALENDAR
PRODID:-//eluceo/ical//2.0/EN
VERSION:2.0
CALSCALE:GREGORIAN
BEGIN:VEVENT
UID:e86fded47897f06d2c907ee1b1a7a4cd
DTSTAMP:20260423T233647Z
SUMMARY:Human Centred Design Retreat
DESCRIPTION:We Are Human\, a Clarimed Company is a Human Centred Design con
 sultancy\, based both in Bristol and Atlanta\, that specialises in User Re
 search\, UX and Human Factors. This 4-day interactive course comprises a m
 ix of presentations\, hands-on team workshop activities\, and guest speake
 r case studies all related to Human Centred Design in Medical Device Devel
 opment. The learning objectives of the course are:\n\nLearn what Human Cen
 tred Design is\,\nUnderstand why its important to include the user through
 out the development process\,\nDiscover research methods to help understan
 d your users’ needs and research objective\,\nBe aware of the use-relate
 d regulatory aspects required for medical device development\,\nIdentify i
 dea generating tools to use to solve user’s problems\,\nUncover how to t
 est your ideas with the people you’re designing for\,\nThink about how t
 o consider\, manage and present to varying stakeholders.\n\nThis course is
  run in partnership with the CRUK Convergence Science Centre PhD training 
 programme.
URL:https://www.imperial.ac.uk/events/208957/human-centred-design-retreat-3
 /
DTSTART;TZID=Europe/London:20260914T080000
DTEND;TZID=Europe/London:20260917T180000
LOCATION:Madingley Hall\, Madingley\, Cambridge\, CB23 8AQ\, United Kingdom
END:VEVENT
BEGIN:VTIMEZONE
TZID:Europe/London
BEGIN:DAYLIGHT
DTSTART:20260914T080000
TZNAME:BST
TZOFFSETTO:+0100
TZOFFSETFROM:+0100
END:DAYLIGHT
END:VTIMEZONE
END:VCALENDAR
