BEGIN:VCALENDAR
PRODID:-//eluceo/ical//2.0/EN
VERSION:2.0
CALSCALE:GREGORIAN
BEGIN:VEVENT
UID:1c0c529dbe5ddb3e0ff5ac8efa6078e3
DTSTAMP:20260425T183551Z
SUMMARY:The Perils of Patents
DESCRIPTION:1955 saw the creation of the world’s first automatic electric
  kettle\, by the ground-breaking partnership that was Bill Russell & Peter
  Hobbs (RUSSELL HOBBS). In his seminar\, Nicholas Hobbs will be focusing o
 n the problems that were encountered protecting the first automatic kettle
  from technical competition.
URL:https://www.imperial.ac.uk/events/96033/the-perils-of-patents/
DTSTART;TZID=Europe/London:20191212T141500
DTEND;TZID=Europe/London:20191212T150000
LOCATION:United Kingdom
END:VEVENT
BEGIN:VTIMEZONE
TZID:Europe/London
BEGIN:STANDARD
DTSTART:20191212T141500
TZNAME:GMT
TZOFFSETTO:+0000
TZOFFSETFROM:+0000
END:STANDARD
END:VTIMEZONE
END:VCALENDAR
