BEGIN:VCALENDAR
PRODID:-//eluceo/ical//2.0/EN
VERSION:2.0
CALSCALE:GREGORIAN
BEGIN:VEVENT
UID:e8ea8451a0ee3e39de48958ca652a89b
DTSTAMP:20260420T034812Z
SUMMARY:2eMPower STEM Workshop
DESCRIPTION: STEM workshop for high ability students with high-functioning
  autism/Asperger’s\nThis bespoke STEM workshop is for students in Year 
 10-12.\nThe workshop will include activities in maths and astrophysics led
  by Imperial academics- Prof Kevin Buzzard and Dr Roberto Trotta. It is al
 so an opportunity to meet Imperial students with high functioning autism.\
 nParents are invited to come and network and share experiences.\nWorkshops
  have been developed by the 2eMPower team – find out more about us – h
 ttps://2eMPoweruk.wordpress.com\n 
URL:https://www.imperial.ac.uk/events/98408/2empower-stem-workshop/
DTSTART;TZID=Europe/London:20180712T093000
DTEND;TZID=Europe/London:20180712T160000
LOCATION:United Kingdom
END:VEVENT
BEGIN:VTIMEZONE
TZID:Europe/London
BEGIN:DAYLIGHT
DTSTART:20180712T093000
TZNAME:BST
TZOFFSETTO:+0100
TZOFFSETFROM:+0100
END:DAYLIGHT
END:VTIMEZONE
END:VCALENDAR
